BEGIN:VCALENDAR
VERSION:2.0
PRODID:-//ChamberMaster//Event Calendar 2.0//EN
METHOD:PUBLISH
X-PUBLISHED-TTL:P3D
REFRESH-INTERVAL:P3D
CALSCALE:GREGORIAN
BEGIN:VEVENT
DTSTART:20230207T174500Z
DTEND:20230207T190000Z
X-MICROSOFT-CDO-ALLDAYEVENT:FALSE
SUMMARY:YPG Lunch & Learn
DESCRIPTION:YPG Lunch & Learn: Business Resources at Glenview Public Library \n\nTuesday 2/7/23 \n\n11:45 am  1 pm \n\nGlenview Public Library \n\n1930 Glenview Rd \n\nGlenview\, IL 60025 \n\nMultipurpose Room \n\n\n\nTake advantage of resources available through the Glenview Public Library to target new customers\, look for sales leads\, and research competition. Presented by Claire McCully\, Business Librarian at Glenview Public Library. Lunch from Corner Bakery will be provided. Limited space is available.  Sign up early to reserve your spot!  Register by 2/2.  Please contact Claire with any questions at cmccully@glenviewpl.org.
X-ALT-DESC;FMTTYPE=text/html:<p class="xxparagraph" style="background:white"><span class="xxnormaltextrun"><span style="font-size:12.0pt\;color:black">YPG Lunch &amp\; Learn: Business Resources at Glenview Public Library</span></span><span class="xxeop"><span style="font-size:12.0pt\;color:black">&nbsp\;</span></span><o:p></o:p></p>\n\n<p class="xxparagraph" style="background:white\;font-kerning:none"><span class="xxnormaltextrun"><span style="font-size:12.0pt\;color:black">Tuesday 2/7/23</span></span><span class="xxeop"><span style="font-size:12.0pt\;color:black">&nbsp\;</span></span><o:p></o:p><br />\n<span class="xxnormaltextrun"><span style="font-size:12.0pt\;color:black">11:45 am &ndash\;1 pm</span></span><span class="xxeop"><span style="font-size:12.0pt\;color:black">&nbsp\;</span></span><br />\n<o:p></o:p><span class="xxnormaltextrun"><span style="font-size:12.0pt\;color:black">Glenview Public Library</span></span><span class="xxeop"><span style="font-size:12.0pt\;\ncolor:black">&nbsp\;</span></span><o:p></o:p><br />\n<span class="xxnormaltextrun"><span style="font-size:12.0pt\;color:black">1930 Glenview Rd</span></span><span class="xxeop"><span style="font-size:12.0pt\;color:black">&nbsp\;</span></span><o:p></o:p><br />\n<span class="xxnormaltextrun"><span style="font-size:12.0pt\;color:black">Glenview\, IL 60025</span></span><span class="xxeop"><span style="font-size:12.0pt\;color:black">&nbsp\;</span></span><o:p></o:p><br />\n<span class="xxnormaltextrun"><span style="font-size:12.0pt\;color:black">Multipurpose Room</span></span><span class="xxeop"><span style="font-size:12.0pt\;color:black">&nbsp\;</span></span><o:p></o:p><br />\n<br />\n<span class="xxnormaltextrun"><span style="font-size:12.0pt\;color:black">Take advantage of resources available through the Glenview Public Library to target new customers\, look for sales leads\, and research competition. Presented by Claire McCully\, Business Librarian at Glenview Public Library. Lunch from&nbsp\;Corner Bakery will be provided.&nbsp\;</span></span><span style="color: black\; font-size: 12pt\;">Limited space is available.&nbsp\; Sign up early to reserve your spot!&nbsp\; Register by 2/2.&nbsp\; Please contact Claire with any questions at </span><a href="mailto:cmccully@glenviewpl.org" style="font-size: 12pt\;">cmccully@glenviewpl.org</a><span style="color: black\; font-size: 12pt\;">.</span></p>\n\n<p class="xxparagraph" style="background:white\;font-kerning:none"><o:p></o:p></p>\n\n<p class="xxparagraph" style="background:white\;font-kerning:none"><o:p></o:p></p>\n
LOCATION:
UID:e.434.10718
SEQUENCE:3
DTSTAMP:20260421T045456Z
URL:https://business.glenviewchamber.com/events/details/ypg-lunch-learn-10718
END:VEVENT

END:VCALENDAR
