BEGIN:VCALENDAR
VERSION:2.0
PRODID:-//ChamberMaster//Event Calendar 2.0//EN
METHOD:PUBLISH
X-PUBLISHED-TTL:P3D
REFRESH-INTERVAL:P3D
CALSCALE:GREGORIAN
BEGIN:VEVENT
DTSTART:20210419T170000Z
DTEND:20210419T180000Z
X-MICROSOFT-CDO-ALLDAYEVENT:FALSE
SUMMARY:Zoom - Economic Relief\, Strategies and Solutions with Cook County Commissioner
DESCRIPTION:Join us to learn about COVID-19 relief for small businesses throughout Cook County. Also\, we invite you to bring your thoughts\, ideas and questions about the American Rescue Act dollars that Cook County will be receiving.
X-ALT-DESC;FMTTYPE=text/html:Join us to learn about COVID-19 relief for small businesses throughout Cook County. Also\, we invite you to bring your thoughts\, ideas and questions about the American Rescue Act dollars that Cook County will be receiving.
LOCATION:
UID:e.434.10549
SEQUENCE:3
DTSTAMP:20260422T121206Z
URL:https://business.glenviewchamber.com/events/details/zoom-economic-relief-strategies-and-solutions-with-cook-county-commissioner-10549
END:VEVENT

END:VCALENDAR
