BEGIN:VCALENDAR
VERSION:2.0
PRODID:-//ChamberMaster//Event Calendar 2.0//EN
METHOD:PUBLISH
X-PUBLISHED-TTL:P3D
REFRESH-INTERVAL:P3D
CALSCALE:GREGORIAN
BEGIN:VEVENT
DTSTART:20200924T170000Z
DTEND:20200924T180000Z
X-MICROSOFT-CDO-ALLDAYEVENT:FALSE
SUMMARY:ZOOM EDUCATIONAL EVENT
DESCRIPTION:Social Media Zoom Series Event #3: Enhancing Sales and Service via Facebook Messenger presented by Gina Speckman\, Executive Director\, Chicago's North Shore Convention and Visitors Bureau. Questions? Email Jennifer at jengel@cnscvb.com.\n\n Register here: https://us02web.zoom.us/meeting/register/tZYpfumpqjwoH9LyjEvTy3wr6llra8ThNkR4\n\n**You must register in advance to participate in this meeting.
X-ALT-DESC;FMTTYPE=text/html:<span style="color:#000038\;"><span style="font-family:tahoma\,sans-serif\;">Social Media Zoom Series Event #3:&nbsp\;<strong><span style="font-family:tahoma\,sans-serif\;">Enhancing Sales and Service via Facebook Messenger</span></strong> presented by Gina Speckman\, Executive Director\, Chicago&#39\;s North Shore Convention and Visitors Bureau.&nbsp\;Questions? Email Jennifer at&nbsp\;<a href="mailto:jengel@cnscvb.com" target="_blank"><strong><span style="color:#6E8B76\;"><span style="font-family:arial\,sans-serif\;">jengel@cnscvb.com</span></span></strong></a></span></span><span style="color:black\;"><span style="font-family:tahoma\,sans-serif\;">.</span></span><br />\n&nbsp\;Register here:&nbsp\;<a href="https://us02web.zoom.us/meeting/register/tZYpfumpqjwoH9LyjEvTy3wr6llra8ThNkR4">https://us02web.zoom.us/meeting/register/tZYpfumpqjwoH9LyjEvTy3wr6llra8ThNkR4</a><br />\n<strong><span style="color:#000038\;"><span style="font-family:tahoma\,sans-serif\;">**You must register in advance to participate in this meeting.&nbsp\;</span></span></strong>
LOCATION:Via zoom
UID:e.434.10469
SEQUENCE:3
DTSTAMP:20260422T234828Z
URL:https://business.glenviewchamber.com/events/details/zoom-educational-event-10469
END:VEVENT

END:VCALENDAR
