BEGIN:VCALENDAR
VERSION:2.0
PRODID:-//ChamberMaster//Event Calendar 2.0//EN
METHOD:PUBLISH
X-PUBLISHED-TTL:P3D
REFRESH-INTERVAL:P3D
CALSCALE:GREGORIAN
BEGIN:VEVENT
DTSTART:20210422T170000Z
DTEND:20210422T180000Z
X-MICROSOFT-CDO-ALLDAYEVENT:FALSE
SUMMARY:Zoom Meet & Greet with Elliot Richardson of Small Business Advocacy Council (SBAC)
DESCRIPTION:Hear directly from the Co-Founder and President of the Small Business Advocacy Council\, an organization laser-focused on advocating for the small business community. The SBAC is dedicated to passing legislation and moving policy initiatives that will help small and local businesses thrive. The SBAC works with numerous partners to provide the small business community a unified and strong voice to advocate on policies that impact the economy.
X-ALT-DESC;FMTTYPE=text/html:<span style="color: rgb(76\, 76\, 76)\; font-family: Calibri\, Helvetica\, Arial\, sans-serif\; font-size: 16px\; white-space: pre-wrap\;">Hear directly from the Co-Founder and President of the Small Business Advocacy Council\, an organization laser-focused on advocating for the small business community.&nbsp\;The SBAC is dedicated to passing legislation and moving policy initiatives that will help small and local businesses thrive.&nbsp\;The SBAC works with numerous partners to provide the small business community a unified and strong voice to advocate on policies that impact the economy.</span>
LOCATION:
UID:e.434.10546
SEQUENCE:3
DTSTAMP:20260422T121340Z
URL:https://business.glenviewchamber.com/events/details/zoom-meet-greet-with-elliot-richardson-of-small-business-advocacy-council-sbac-10546
END:VEVENT

END:VCALENDAR
